BEGIN:VCALENDAR
VERSION:2.0
PRODID:-//Intand Corporation//Tandem//EN
METHOD:PUBLISH
BEGIN:VEVENT
DTSTAMP:20260421T073927Z
DTSTART:20260914T213000Z
DTEND:20260914T223000Z
TRANSP:TRANSPARENT
PRIORITY:0
SUMMARY:HPHS Belle's Photo Shoot
LOCATION:HPHS Highlander Stadium
DESCRIPTION:Per Shanoon Philips request\n\nconfirm date from spreasheet (F
 riday or Monday?)\n\n\nGroups:\nHPHS Belles\n\nSchools:\nHighland Park Hig
 h School\n\nLocation:\nHPHS Highlander Stadium\n\n
X-ALT-DESC;FMTTYPE=text/html:<!doctype html><html><body>Per Shanoon Philip
 s request</p><p>confirm date from spreasheet (Friday or Monday?)<br /><br 
 />Groups:<br />HPHS Belles<br /><br />Schools:<br />Highland Park High Sch
 ool<br /><br />Location:<br />HPHS Highlander Stadium<br /></body></html>
URL;VALUE=URI:https://hpisd.tandem.co/index.php?type=view&action=event&id=
 252635
CREATED:20260414T172804Z
LAST-MODIFIED:20260420T235024Z
UID:event-252635-hpisd@intand.com
END:VEVENT
END:VCALENDAR
