BEGIN:VCALENDAR
VERSION:2.0
PRODID:-//Intand Corporation//Tandem//EN
METHOD:PUBLISH
BEGIN:VEVENT
DTSTAMP:20260425T103605Z
DTSTART:20210719T160000Z
DTEND:20210720T013000Z
TRANSP:TRANSPARENT
PRIORITY:0
SUMMARY:HPHS Band Drumline Camp
LOCATION:HPHS Band Hall\, NW127\, HPHS Orchestra Room NW101\, HPHS Orch La
 rge Ensemble\, NW106
DESCRIPTION:Per Rylon Guidry.  \n\nSetup: 9:00 am\nBreakdown: 9:00 pm\n\nG
 roups:\nHPHS Percussion\nHPHS Facility Services\n\nSchools:\nHighland Park
  High School\n\nLocations:\nHPHS Band Hall\, NW127\nHPHS Orchestra Room NW
 101\nHPHS Orch Large Ensemble\, NW106\n\n
URL;VALUE=URI:https://hpisd.tandem.co/index.php?type=view&action=event&id=
 191729
CREATED:20210330T173358Z
LAST-MODIFIED:20210330T173358Z
UID:event-191729-hpisd@intand.com
END:VEVENT
END:VCALENDAR
