BEGIN:VCALENDAR
VERSION:2.0
PRODID:-//Intand Corporation//Tandem//EN
METHOD:PUBLISH
BEGIN:VEVENT
DTSTAMP:20260421T230639Z
DTSTART:20210510T223000Z
DTEND:20210511T013000Z
TRANSP:TRANSPARENT
PRIORITY:0
SUMMARY:HPHS Gymnastics Banquet
LOCATION:Smoky Rose
DESCRIPTION:per brandi wren\n\nGroups:\nHPHS Athletic Office\nHPHS Facilit
 y Services\nHPHS Gymnastics Boys\nHPHS Gymnastics Girls\nHPISD Athletic Di
 rector - Rodney Webb\nHPISD Girls Athletic Coordinator\n\nSchools:\nHPISD 
 Administration Building\nHighland Park High School\nHighland Park Middle S
 chool\n\nLocation:\nSmoky Rose\n\n
URL;VALUE=URI:https://hpisd.tandem.co/index.php?type=view&action=event&id=
 178129
CREATED:20200513T184755Z
LAST-MODIFIED:20210505T182510Z
UID:event-178129-hpisd@intand.com
END:VEVENT
END:VCALENDAR
