BEGIN:VCALENDAR
VERSION:2.0
PRODID:-//Intand Corporation//Tandem//EN
METHOD:PUBLISH
BEGIN:VEVENT
DTSTAMP:20260422T140227Z
DTSTART:20191102T120000Z
DTEND:20191102T180000Z
TRANSP:TRANSPARENT
PRIORITY:0
SUMMARY:Lady Scots Basketball v Coppell Scrimmage
LOCATION:Coppell ISD - Coppell High School
DESCRIPTION:Groups:\nHPHS Basketball Girls 9th\nHPHS Basketball Girls JV\n
 HPHS Basketball Girls Varsity\n\nSchools:\nHighland Park High School\n\nLo
 cation:\nCoppell ISD - Coppell High School\n\n
URL;VALUE=URI:https://hpisd.tandem.co/index.php?type=view&action=event&id=
 164613
CREATED:20190625T205251Z
LAST-MODIFIED:20190625T210205Z
UID:event-164613-hpisd@intand.com
END:VEVENT
END:VCALENDAR
