BEGIN:VCALENDAR
VERSION:2.0
PRODID:-//Intand Corporation//Tandem//EN
METHOD:PUBLISH
BEGIN:VEVENT
DTSTAMP:20260425T014347Z
DTSTART:20260424T220000Z
DTEND:20260425T045959Z
TRANSP:TRANSPARENT
PRIORITY:0
SUMMARY:Armstrong Auction Sleepover
LOCATION:Armstrong 2nd-Grade Workroom\, Armstrong Art Room 201\, Armstrong
  Athletic Field\, Armstrong Auditorium\, Armstrong Cafeteria\, Armstrong C
 alendar Note\, Armstrong Computer Lab\, Armstrong Conference Room\, Armstr
 ong Counselor's Office\,
DESCRIPTION:Auction Item - 20 student sleepover at school\n\n\nBreakdown: 
 TBD\n\nReturn: TBD\n\nGroups:\nArmstrong Students\n\nSchools:\nArmstrong E
 lementary\n\nLocations:\nArmstrong 2nd-Grade Workroom\nArmstrong Art Room 
 201\nArmstrong Athletic Field\nArmstrong Auditorium\nArmstrong Cafeteria\n
 Armstrong Calendar Note\nArmstrong Computer Lab\nArmstrong Conference Room
 \nArmstrong Counselor's Office\nArmstrong Foot Bridge\nArmstrong Front Por
 ch\nArmstrong Gardens\nArmstrong Grade-Level Classrooms\nArmstrong Kinderg
 arten Testing Nook\nArmstrong LIFT Room 107\nArmstrong LIFT Room 112\nArms
 trong Land\nArmstrong Large Gym\nArmstrong Library Media Center\nArmstrong
  Makerspace\nArmstrong Music Room 213\nArmstrong Offices\nArmstrong Online
  Event\nArmstrong Patio\nArmstrong Picnic Tables\nArmstrong Playground Fie
 ld\nArmstrong Principal's Office\nArmstrong Resource Room 215\nArmstrong R
 oom 102\nArmstrong Room 103\nArmstrong Room 104\nArmstrong Room 105\nArmst
 rong Room 106\nArmstrong Room 108\nArmstrong Room 109\nArmstrong Room 110\
 nArmstrong Room 111\nArmstrong Room 202\nArmstrong Room 203\nArmstrong Roo
 m 204\nArmstrong Room 205\nArmstrong Room 206\nArmstrong Room 207\nArmstro
 ng Room 209\nArmstrong Room 210\nArmstrong Room 211\nArmstrong Room 212\nA
 rmstrong Room 214\nArmstrong Room 216\nArmstrong Room 217\nArmstrong Room 
 218\nArmstrong Room 219\nArmstrong Room 220\nArmstrong Room 221\nArmstrong
  Room 222\nArmstrong Room 223\nArmstrong Room 224\nArmstrong Room 225\nArm
 strong SPED Conference Room\nArmstrong Science Lab\nArmstrong Sky Flex Spa
 ce\nArmstrong Small Gym\nArmstrong Teacher Lounge\nArmstrong Terra\nArmstr
 ong Yard Byron Side\nArmstrong off-campus locatiion\nArmstrong playground\
 n\n
URL;VALUE=URI:http://hpisd.tandem.co/index.php?type=view&action=event&id=2
 53365
CREATED:20260424T141520Z
LAST-MODIFIED:20260424T141520Z
UID:event-253365-hpisd@intand.com
END:VEVENT
END:VCALENDAR
