BEGIN:VCALENDAR
VERSION:2.0
PRODID:-//Intand Corporation//Tandem//EN
METHOD:PUBLISH
BEGIN:VEVENT
DTSTAMP:20260425T112506Z
DTSTART:20270413T203000Z
DTEND:20270414T000000Z
TRANSP:TRANSPARENT
PRIORITY:0
SUMMARY:HPHS Belle Lieutenant choreography session
LOCATION:HPHS Dance Studio NC101\, HPHS Gym: ASF/Belles Gym NC100
DESCRIPTION:per Shannon Phillips\n\n\nGroups:\nHPHS Principals\nHPHS Facil
 ity Services\nHPHS Belles\n\nSchools:\nHighland Park High School\n\nLocati
 ons:\nHPHS Dance Studio NC101\nHPHS Gym: ASF/Belles Gym NC100\n\n
URL;VALUE=URI:http://hpisd.tandem.co/index.php?type=view&action=event&id=2
 53309
CREATED:20260423T170012Z
LAST-MODIFIED:20260423T170012Z
UID:event-253309-hpisd@intand.com
END:VEVENT
END:VCALENDAR
