BEGIN:VCALENDAR
VERSION:2.0
PRODID:-//Intand Corporation//Tandem//EN
METHOD:PUBLISH
BEGIN:VEVENT
DTSTAMP:20260425T112426Z
DTSTART:20270106T220000Z
DTEND:20270107T010000Z
TRANSP:TRANSPARENT
PRIORITY:0
SUMMARY:HPHS Belle Lieutenant Mock Tryouts
LOCATION:HPHS Cafeteria Stage\, HPHS Cafeteria Commons Area\, HPHS Cafeter
 ia\, HPHS Gym: ASF/Belles Gym NC100\, HPHS Dance Studio NC101
DESCRIPTION:per Shannon Phillips (loud event-avoid booking cafe same day)\
 n\n*Shannon to communicate with basketball coaches about space use\n\n \n\
 nSetup on Tues Jan 7: 2 narrow tables on stage +4 chairs\, 3 wide tables o
 n floor in front of east mirrow +7 chairs\n\n\nGroups:\nHPHS Belles\nHPHS 
 Facility Services\nHPHS Principals\n\nSchools:\nHighland Park High School\
 n\nLocations:\nHPHS Cafeteria Stage\nHPHS Cafeteria Commons Area\nHPHS Caf
 eteria\nHPHS Gym: ASF/Belles Gym NC100\nHPHS Dance Studio NC101\n\n
X-ALT-DESC;FMTTYPE=text/html:<!doctype html><html><body>per Shannon Philli
 ps (loud event-avoid booking cafe same day)</p><p>*Shannon to communicate 
 with basketball coaches about space use</p><p> </p><p>Setup on Tues Jan 7:
  2 narrow tables on stage +4 chairs\, 3 wide tables on floor in front of e
 ast mirrow +7 chairs<br /><br />Groups:<br />HPHS Belles<br />HPHS Facilit
 y Services<br />HPHS Principals<br /><br />Schools:<br />Highland Park Hig
 h School<br /><br />Locations:<br />HPHS Cafeteria Stage<br />HPHS Cafeter
 ia Commons Area<br />HPHS Cafeteria<br />HPHS Gym: ASF/Belles Gym NC100<br
  />HPHS Dance Studio NC101<br /></body></html>
URL;VALUE=URI:http://hpisd.tandem.co/index.php?type=view&action=event&id=2
 53288
CREATED:20260422T231611Z
LAST-MODIFIED:20260422T231731Z
UID:event-253288-hpisd@intand.com
END:VEVENT
END:VCALENDAR
