BEGIN:VCALENDAR
VERSION:2.0
PRODID:-//Intand Corporation//Tandem//EN
METHOD:PUBLISH
BEGIN:VEVENT
DTSTAMP:20260423T063539Z
DTSTART:20260424T120000Z
DTEND:20260424T185500Z
TRANSP:TRANSPARENT
PRIORITY:0
SUMMARY:HPHS STAAR EOC Make-up session
LOCATION:HPHS Learning Theater EC228
DESCRIPTION:per Annuar Ortiz\n\n\nGroups:\nHPHS Facility Services\n\nSchoo
 ls:\nHighland Park High School\n\nLocation:\nHPHS Learning Theater EC228\n
 \n
URL;VALUE=URI:http://hpisd.tandem.co/index.php?type=view&action=event&id=2
 53128
CREATED:20260422T164042Z
LAST-MODIFIED:20260422T164325Z
UID:event-253128-hpisd@intand.com
END:VEVENT
END:VCALENDAR
