BEGIN:VCALENDAR
VERSION:2.0
PRODID:-//Intand Corporation//Tandem//EN
METHOD:PUBLISH
BEGIN:VEVENT
DTSTAMP:20260425T112506Z
DTSTART:20260911T220000Z
DTEND:20260912T003000Z
TRANSP:TRANSPARENT
PRIORITY:0
SUMMARY:HPHS Belles Spaghetti Supper 
LOCATION:HPHS Cafeteria\, HPHS Cafeteria Commons Area\, HPHS Cafeteria Sta
 ge\, HPHS Dance Studio NC101\, HPHS Gym: ASF/Belles Gym NC100\, HPHS Stude
 nt Entrance Wooden Stairs\, HPHS Student Entrance on Westchester\, HPHS Te
 acher Dining Room
DESCRIPTION:Per Shannon Phillips\n\n(Set up instructions: Will Begin at 2p
 m\, Detailed instructions to be provided later by parent boosters)\n\n\nSe
 tup: 2:00 pm\nBreakdown: 9:00 pm\n\nGroups:\nHPISD Athletic Director\nHPHS
  Students\nHPHS Principals\nHPHS Parents\nHPHS Belles\n\nSchools:\nHighlan
 d Park High School\nHPISD Administration Building\n\nLocations:\nHPHS Cafe
 teria\nHPHS Cafeteria Commons Area\nHPHS Cafeteria Stage\nHPHS Dance Studi
 o NC101\nHPHS Gym: ASF/Belles Gym NC100\nHPHS Student Entrance Wooden Stai
 rs\nHPHS Student Entrance on Westchester\nHPHS Teacher Dining Room\n\n
X-ALT-DESC;FMTTYPE=text/html:<!doctype html><html><body>Per Shannon Philli
 ps</p><p>(Set up instructions: Will Begin at 2pm\, Detailed instructions t
 o be provided later by parent boosters)<br /><br />Setup: 2:00 pm<br />Bre
 akdown: 9:00 pm<br /><br />Groups:<br />HPISD Athletic Director<br />HPHS 
 Students<br />HPHS Principals<br />HPHS Parents<br />HPHS Belles<br /><br 
 />Schools:<br />Highland Park High School<br />HPISD Administration Buildi
 ng<br /><br />Locations:<br />HPHS Cafeteria<br />HPHS Cafeteria Commons A
 rea<br />HPHS Cafeteria Stage<br />HPHS Dance Studio NC101<br />HPHS Gym: 
 ASF/Belles Gym NC100<br />HPHS Student Entrance Wooden Stairs<br />HPHS St
 udent Entrance on Westchester<br />HPHS Teacher Dining Room<br /></body></
 html>
URL;VALUE=URI:http://hpisd.tandem.co/index.php?type=view&action=event&id=2
 53063
CREATED:20260420T233043Z
LAST-MODIFIED:20260420T233043Z
UID:event-253063-hpisd@intand.com
END:VEVENT
END:VCALENDAR
