BEGIN:VCALENDAR
VERSION:2.0
PRODID:-//Intand Corporation//Tandem//EN
METHOD:PUBLISH
BEGIN:VEVENT
DTSTAMP:20260420T091942Z
DTSTART:20250409T200000Z
DTEND:20250410T045959Z
TRANSP:TRANSPARENT
PRIORITY:0
SUMMARY:HPHS Gymnastics Region 1 Championships
LOCATION:HPHS Gym: Hegi Family Gymnastics Training Center
DESCRIPTION:HPHS Girls Gymnastics Region 1 Championships @ HPHS\n\n\nBreak
 down: TBD\n\nReturn: TBD\n\nGroups:\nHPHS Gymnastics Girls\n\nSchools:\nHi
 ghland Park High School\n\nLocation:\nHPHS Gym: Hegi Family Gymnastics Tra
 ining Center\n\n
URL;VALUE=URI:http://hpisd.tandem.co/index.php?type=view&action=event&id=2
 40612
CREATED:20241024T151039Z
LAST-MODIFIED:20241024T151313Z
UID:event-240612-hpisd@intand.com
END:VEVENT
END:VCALENDAR
