BEGIN:VCALENDAR
VERSION:2.0
PRODID:-//Intand Corporation//Tandem//EN
METHOD:PUBLISH
BEGIN:VEVENT
DTSTAMP:20260422T115537Z
DTSTART:20250319T230000Z
DTEND:20250320T003000Z
TRANSP:TRANSPARENT
PRIORITY:0
SUMMARY:HPHS Wrestling Banquet
LOCATION:HPHS Cafeteria Stage\, HPHS Cafeteria Commons Area\, HPHS Cafeter
 ia
DESCRIPTION:Banquet run by Tim Marzuola\, Mark Furgeson & Michelle Ham\n\n
 \nSetup: 4:30 pm\nBreakdown: 9:00 pm\n\nGroups:\nHPHS Athletic Office\nHPH
 S Facility Services\nHPHS Wrestling JV\nHPHS Wrestling Varsity\n\nSchools:
 \nHighland Park High School\n\nLocations:\nHPHS Cafeteria Stage\nHPHS Cafe
 teria Commons Area\nHPHS Cafeteria\n\n
URL;VALUE=URI:http://hpisd.tandem.co/index.php?type=view&action=event&id=2
 39522
CREATED:20240906T000201Z
LAST-MODIFIED:20250318T180718Z
UID:event-239522-hpisd@intand.com
END:VEVENT
END:VCALENDAR
