BEGIN:VCALENDAR
VERSION:2.0
PRODID:-//Intand Corporation//Tandem//EN
METHOD:PUBLISH
BEGIN:VEVENT
DTSTAMP:20260420T090918Z
DTSTART:20201021T123000Z
DTEND:20201021T173000Z
TRANSP:TRANSPARENT
PRIORITY:0
SUMMARY:HP Lady Scots Golf - Lewisville Invitational 
LOCATION:Sherrill Park Golf Course
DESCRIPTION:JV \n\nGroups:\nHPHS Golf Girls\nHPHS Golf Girls JV\nHPHS Golf
  Girls Varsity\n\nSchools:\nHighland Park High School\n\nLocation:\nSherri
 ll Park Golf Course\n\n
URL;VALUE=URI:http://hpisd.tandem.co/index.php?type=view&action=event&id=1
 81792
CREATED:20200908T041700Z
LAST-MODIFIED:20200908T042747Z
UID:event-181792-hpisd@intand.com
END:VEVENT
END:VCALENDAR
