BEGIN:VCALENDAR
VERSION:2.0
PRODID:-//Intand Corporation//Tandem//EN
METHOD:PUBLISH
BEGIN:VEVENT
DTSTAMP:20260422T154112Z
DTSTART:20201023T000000Z
DTEND:20201023T020000Z
TRANSP:TRANSPARENT
PRIORITY:0
SUMMARY:[Cancelled] HPMS Drama - Fall Play 
LOCATION:MIS/HPMS Auditorium\, MIS/HPMS Auditorium Balcony Mezz.\, MIS/HPM
 S Auditorium Foyer\, MIS/HPMS Cafeteria\, MIS/HPMS Drama Room (D113)
DESCRIPTION:Fall HPMS School Play - Performances 10/22 @7:00 10/23 @4:00 1
 0/24 @5:00 10/25 @2:00\n\nSetup: 5:00 pm\nBreakdown: 9:30 pm\n\nGroups:\nH
 PMS Students\nHPMS Parents\nHPMS Faculty\nHPMS Drama\n\nSchools:\nMcCulloc
 h Intermediate School\nHighland Park Middle School\n\nLocations:\nMIS/HPMS
  Auditorium\nMIS/HPMS Auditorium Balcony Mezz.\nMIS/HPMS Auditorium Foyer\
 nMIS/HPMS Cafeteria\nMIS/HPMS Drama Room (D113)\n\nContacts:\nAllie McKenn
 a\n\n
URL;VALUE=URI:http://hpisd.tandem.co/index.php?type=view&action=event&id=1
 79572
CREATED:20200703T005011Z
LAST-MODIFIED:20200830T003213Z
UID:event-179572-hpisd@intand.com
END:VEVENT
END:VCALENDAR
