BEGIN:VCALENDAR
VERSION:2.0
PRODID:-//Intand Corporation//Tandem//EN
METHOD:PUBLISH
BEGIN:VEVENT
DTSTAMP:20260421T134450Z
DTSTART:20191116T003000Z
DTEND:20191116T050000Z
TRANSP:TRANSPARENT
PRIORITY:0
SUMMARY:Parents Night Out
LOCATION:UP Gym C111
DESCRIPTION:Groups:\nUP Students All\n\nSchools:\nUniversity Park Elementa
 ry\n\nLocation:\nUP Gym C111\n\n
URL;VALUE=URI:http://hpisd.tandem.co/index.php?type=view&action=event&id=1
 65512
CREATED:20190802T193540Z
LAST-MODIFIED:20190805T162751Z
UID:event_request-165512-hpisd@intand.com
END:VEVENT
END:VCALENDAR
