BEGIN:VCALENDAR
VERSION:2.0
PRODID:-//Intand Corporation//Tandem//EN
METHOD:PUBLISH
BEGIN:VEVENT
DTSTAMP:20260419T232747Z
DTSTART:20200115T223000Z
DTEND:20200116T030000Z
TRANSP:TRANSPARENT
PRIORITY:0
SUMMARY:[Cancelled] HPHS Band 101
LOCATION:HPHS Orch Large Ensemble\, NW106\, HPHS Cafeteria Stage\, HPHS Ca
 feteria Commons Area\, HPHS Cafeteria\, HPHS Band Hall\, NW127
DESCRIPTION:Per Brumley\n\nSetup: 2:00 pm\nBreakdown: 9:30 pm\n\nGroups:\n
 HPHS Band\nHPHS Facility Services\nHPHS Fine Arts\n\nSchools:\nHighland Pa
 rk High School\n\nLocations:\nHPHS Orch Large Ensemble\, NW106\nHPHS Cafet
 eria Stage\nHPHS Cafeteria Commons Area\nHPHS Cafeteria\nHPHS Band Hall\, 
 NW127\n\n
URL;VALUE=URI:http://hpisd.tandem.co/index.php?type=view&action=event&id=1
 60827
CREATED:20190415T005250Z
LAST-MODIFIED:20200113T153251Z
UID:event-160827-hpisd@intand.com
END:VEVENT
END:VCALENDAR
