BEGIN:VCALENDAR
VERSION:2.0
PRODID:-//Intand Corporation//Tandem//EN
METHOD:PUBLISH
BEGIN:VEVENT
DTSTAMP:20260425T120307Z
DTSTART:20190206T013000Z
DTEND:20190206T030000Z
TRANSP:TRANSPARENT
PRIORITY:0
SUMMARY:Scots Soccer Varsity vs Bryan Adams HS
LOCATION:HPHS Highlander Stadium
DESCRIPTION:Groups:\nHPHS Soccer Boys Varsity (Home)\nHPISD Website Calend
 ar Event (Home)\n\nSchools:\nHPISD Administration Building (Neutral)\nHigh
 land Park High School (Neutral)\n\nLocation:\nHPHS Highlander Stadium\n\n
X-ALT-DESC;FMTTYPE=text/html:<!doctype html><html><body>Groups:<br />HPHS 
 Soccer Boys Varsity (Home)<br />HPISD Website Calendar Event (Home)<br /><
 br />Schools:<br />HPISD Administration Building (Neutral)<br />Highland P
 ark High School (Neutral)<br /><br />Location:<br />HPHS Highlander Stadiu
 m<br />Attachments:<br /><a href="http://hpisd.tandem.co/index.php?type=ex
 port&action=file&id=237">SCOTS Soccer 2019.pdf</a><br /></body></html>
URL;VALUE=URI:http://hpisd.tandem.co/index.php?type=view&action=event&id=1
 56840
CREATED:20190120T003259Z
LAST-MODIFIED:20190120T005415Z
UID:event-156840-hpisd@intand.com
END:VEVENT
END:VCALENDAR
